Package: BASiCS Version: 2.12.3 Command: /home/biocbuild/bbs-3.17-bioc/R/bin/R CMD build --keep-empty-dirs --no-resave-data BASiCS StartedAt: 2023-10-15 15:59:54 -0400 (Sun, 15 Oct 2023) EndedAt: 2023-10-15 16:01:45 -0400 (Sun, 15 Oct 2023) EllapsedTime: 110.5 seconds RetCode: 0 Status: OK PackageFile: BASiCS_2.12.3.tar.gz PackageFileSize: 3.094 MiB