Package: BASiCS Version: 2.12.3 Command: /Library/Frameworks/R.framework/Resources/bin/R CMD build --keep-empty-dirs --no-resave-data BASiCS StartedAt: 2023-10-15 16:50:28 -0400 (Sun, 15 Oct 2023) EndedAt: 2023-10-15 16:55:32 -0400 (Sun, 15 Oct 2023) EllapsedTime: 304.3 seconds RetCode: 0 Status: OK PackageFile: BASiCS_2.12.3.tar.gz PackageFileSize: 3.108 MiB