Package: ArrayExpress Version: 1.60.0 Command: chmod a+r ArrayExpress -R && F:\biocbuild\bbs-3.17-bioc\R\bin\R.exe CMD build --keep-empty-dirs --no-resave-data ArrayExpress StartedAt: 2023-10-15 17:18:45 -0400 (Sun, 15 Oct 2023) EndedAt: 2023-10-15 17:19:25 -0400 (Sun, 15 Oct 2023) EllapsedTime: 40.0 seconds RetCode: 1 Status: ERROR PackageFile: None PackageFileSize: NA