Package: ArrayExpress Version: 1.60.0 Command: rm -rf ArrayExpress.buildbin-libdir && mkdir ArrayExpress.buildbin-libdir && F:\biocbuild\bbs-3.17-bioc\R\bin\R.exe CMD INSTALL --build --library=ArrayExpress.buildbin-libdir ArrayExpress_1.60.0.tar.gz StartedAt: 2023-10-12 08:11:20 -0400 (Thu, 12 Oct 2023) EndedAt: 2023-10-12 08:11:52 -0400 (Thu, 12 Oct 2023) EllapsedTime: 31.8 seconds RetCode: 0 Status: OK PackageFile: ArrayExpress_1.60.0.zip PackageFileSize: 186.4 KiB