Package: ArrayExpress Version: 1.60.0 Command: /home/biocbuild/bbs-3.17-bioc/R/bin/R CMD check --install=check:ArrayExpress.install-out.txt --library=/home/biocbuild/bbs-3.17-bioc/R/site-library --timings ArrayExpress_1.60.0.tar.gz StartedAt: 2023-10-11 19:10:09 -0400 (Wed, 11 Oct 2023) EndedAt: 2023-10-11 19:19:03 -0400 (Wed, 11 Oct 2023) EllapsedTime: 533.3 seconds RetCode: 0 Status: OK CheckDir: ArrayExpress.Rcheck Warnings: 0