Package: ArrayExpress Version: 1.60.0 Command: /Library/Frameworks/R.framework/Resources/bin/R CMD INSTALL ArrayExpress StartedAt: 2023-10-15 15:22:56 -0400 (Sun, 15 Oct 2023) EndedAt: 2023-10-15 15:24:22 -0400 (Sun, 15 Oct 2023) EllapsedTime: 85.7 seconds RetCode: 0 Status: OK