Package: ArrayExpress Version: 1.60.0 Command: rm -rf ArrayExpress.buildbin-libdir && mkdir ArrayExpress.buildbin-libdir && /Users/biocbuild/BBS/utils/build-universal.sh ArrayExpress_1.60.0.tar.gz /Library/Frameworks/R.framework/Resources/bin/R ArrayExpress.buildbin-libdir StartedAt: 2023-10-12 08:54:39 -0400 (Thu, 12 Oct 2023) EndedAt: 2023-10-12 08:56:10 -0400 (Thu, 12 Oct 2023) EllapsedTime: 91.4 seconds RetCode: 0 Status: OK PackageFile: ArrayExpress_1.60.0.tgz PackageFileSize: 182.8 KiB