Package: AnnotationForge Version: 1.42.2 Command: /home/biocbuild/bbs-3.17-bioc/R/bin/R CMD INSTALL AnnotationForge StartedAt: 2023-10-15 15:17:46 -0400 (Sun, 15 Oct 2023) EndedAt: 2023-10-15 15:18:03 -0400 (Sun, 15 Oct 2023) EllapsedTime: 16.9 seconds RetCode: 0 Status: OK