Package: AnnotationForge Version: 1.42.2 Command: /home/biocbuild/bbs-3.17-bioc/R/bin/R CMD build --keep-empty-dirs --no-resave-data AnnotationForge StartedAt: 2023-10-15 15:55:14 -0400 (Sun, 15 Oct 2023) EndedAt: 2023-10-15 15:58:04 -0400 (Sun, 15 Oct 2023) EllapsedTime: 170.3 seconds RetCode: 0 Status: OK PackageFile: AnnotationForge_1.42.2.tar.gz PackageFileSize: 3.733 MiB