Package: AnnotationForge Version: 1.42.2 Command: rm -rf AnnotationForge.buildbin-libdir && mkdir AnnotationForge.buildbin-libdir && /Users/biocbuild/BBS/utils/build-universal.sh AnnotationForge_1.42.2.tar.gz /Library/Frameworks/R.framework/Resources/bin/R AnnotationForge.buildbin-libdir StartedAt: 2023-10-16 08:57:40 -0400 (Mon, 16 Oct 2023) EndedAt: 2023-10-16 08:58:49 -0400 (Mon, 16 Oct 2023) EllapsedTime: 68.9 seconds RetCode: 0 Status: OK PackageFile: AnnotationForge_1.42.2.tgz PackageFileSize: 4.112 MiB