Package: ASGSCA Version: 1.34.0 Command: /home/biocbuild/bbs-3.17-bioc/R/bin/R CMD build --keep-empty-dirs --no-resave-data ASGSCA StartedAt: 2023-10-15 15:56:45 -0400 (Sun, 15 Oct 2023) EndedAt: 2023-10-15 15:59:18 -0400 (Sun, 15 Oct 2023) EllapsedTime: 152.8 seconds RetCode: 0 Status: OK PackageFile: ASGSCA_1.34.0.tar.gz PackageFileSize: 1.18 MiB