Package: ASAFE Version: 1.26.0 Command: /home/biocbuild/bbs-3.17-bioc/R/bin/R CMD INSTALL ASAFE StartedAt: 2023-10-15 15:06:36 -0400 (Sun, 15 Oct 2023) EndedAt: 2023-10-15 15:06:46 -0400 (Sun, 15 Oct 2023) EllapsedTime: 10.0 seconds RetCode: 0 Status: OK