Package: ADaCGH2 Version: 2.40.0 Command: /home/biocbuild/bbs-3.17-bioc/R/bin/R CMD INSTALL ADaCGH2 StartedAt: 2023-10-15 15:38:22 -0400 (Sun, 15 Oct 2023) EndedAt: 2023-10-15 15:38:47 -0400 (Sun, 15 Oct 2023) EllapsedTime: 25.0 seconds RetCode: 0 Status: OK