Package: ADaCGH2 Version: 2.40.0 Command: /Library/Frameworks/R.framework/Resources/bin/R CMD INSTALL ADaCGH2 StartedAt: 2023-10-15 16:08:51 -0400 (Sun, 15 Oct 2023) EndedAt: 2023-10-15 16:10:12 -0400 (Sun, 15 Oct 2023) EllapsedTime: 81.0 seconds RetCode: 0 Status: OK