Package: sequencing Version: 1.22.0 Command: chmod a+r sequencing -R && F:\biocbuild\bbs-3.16-bioc\R\bin\R.exe CMD build --keep-empty-dirs --no-resave-data sequencing StartedAt: 2023-04-11 11:08:58 -0400 (Tue, 11 Apr 2023) EndedAt: 2023-04-11 11:10:27 -0400 (Tue, 11 Apr 2023) EllapsedTime: 88.5 seconds RetCode: 0 Status: OK PackageFile: sequencing_1.22.0.tar.gz PackageFileSize: 403.8 KiB