Package: rnaseqDTU Version: 1.18.0 Command: /Library/Frameworks/R.framework/Resources/bin/R CMD build --keep-empty-dirs --no-resave-data rnaseqDTU StartedAt: 2023-04-11 11:02:59 -0400 (Tue, 11 Apr 2023) EndedAt: 2023-04-11 11:05:11 -0400 (Tue, 11 Apr 2023) EllapsedTime: 132.2 seconds RetCode: 0 Status: OK PackageFile: rnaseqDTU_1.18.0.tar.gz PackageFileSize: 8.691 MiB