Package: maEndToEnd Version: 2.18.0 Command: F:\biocbuild\bbs-3.16-bioc\R\bin\R.exe CMD INSTALL maEndToEnd StartedAt: 2023-04-11 11:01:38 -0400 (Tue, 11 Apr 2023) EndedAt: 2023-04-11 11:02:09 -0400 (Tue, 11 Apr 2023) EllapsedTime: 30.9 seconds RetCode: 0 Status: OK