Package: maEndToEnd Version: 2.18.0 Command: /Library/Frameworks/R.framework/Resources/bin/R CMD INSTALL maEndToEnd StartedAt: 2023-04-11 11:00:37 -0400 (Tue, 11 Apr 2023) EndedAt: 2023-04-11 11:01:00 -0400 (Tue, 11 Apr 2023) EllapsedTime: 23.0 seconds RetCode: 0 Status: OK