Package: SingscoreAMLMutations Version: 1.14.0 Command: F:\biocbuild\bbs-3.16-bioc\R\bin\R.exe CMD INSTALL SingscoreAMLMutations StartedAt: 2023-04-11 11:01:34 -0400 (Tue, 11 Apr 2023) EndedAt: 2023-04-11 11:02:12 -0400 (Tue, 11 Apr 2023) EllapsedTime: 37.6 seconds RetCode: 0 Status: OK