Package: SingscoreAMLMutations Version: 1.14.0 Command: chmod a+r SingscoreAMLMutations -R && F:\biocbuild\bbs-3.16-bioc\R\bin\R.exe CMD build --keep-empty-dirs --no-resave-data SingscoreAMLMutations StartedAt: 2023-04-11 11:09:27 -0400 (Tue, 11 Apr 2023) EndedAt: 2023-04-11 11:21:37 -0400 (Tue, 11 Apr 2023) EllapsedTime: 729.7 seconds RetCode: 0 Status: OK PackageFile: SingscoreAMLMutations_1.14.0.tar.gz PackageFileSize: 1.202 MiB