Package: RnaSeqGeneEdgeRQL Version: 1.22.0 Command: F:\biocbuild\bbs-3.16-bioc\R\bin\R.exe CMD INSTALL RnaSeqGeneEdgeRQL StartedAt: 2023-04-11 11:00:48 -0400 (Tue, 11 Apr 2023) EndedAt: 2023-04-11 11:01:02 -0400 (Tue, 11 Apr 2023) EllapsedTime: 13.7 seconds RetCode: 0 Status: OK