git_url: https://git.bioconductor.org/packages/RnaSeqGeneEdgeRQL git_branch: RELEASE_3_16 git_last_commit: 3b10d23 git_last_commit_date: 2022-11-01 10:34:10 -0400 (Tue, 01 Nov 2022) Package: RnaSeqGeneEdgeRQL Version: 1.22.0 Maintainer: Yunshun Chen MaintainerEmail: yuchen at wehi.edu.au