Package: GeoMxWorkflows Version: 1.4.0 Command: chmod a+r GeoMxWorkflows -R && F:\biocbuild\bbs-3.16-bioc\R\bin\R.exe CMD build --keep-empty-dirs --no-resave-data GeoMxWorkflows StartedAt: 2023-04-11 11:05:09 -0400 (Tue, 11 Apr 2023) EndedAt: 2023-04-11 11:24:08 -0400 (Tue, 11 Apr 2023) EllapsedTime: 1139.3 seconds RetCode: 0 Status: OK PackageFile: GeoMxWorkflows_1.4.0.tar.gz PackageFileSize: 18.39 MiB