Package: ExpHunterSuite Version: 1.6.2 Command: F:\biocbuild\bbs-3.16-bioc\R\bin\R.exe CMD INSTALL ExpHunterSuite StartedAt: 2023-04-11 11:01:45 -0400 (Tue, 11 Apr 2023) EndedAt: 2023-04-11 11:02:39 -0400 (Tue, 11 Apr 2023) EllapsedTime: 53.1 seconds RetCode: 0 Status: OK