Package: ExpHunterSuite Version: 1.6.2 Command: chmod a+r ExpHunterSuite -R && F:\biocbuild\bbs-3.16-bioc\R\bin\R.exe CMD build --keep-empty-dirs --no-resave-data ExpHunterSuite StartedAt: 2023-04-11 11:04:49 -0400 (Tue, 11 Apr 2023) EndedAt: 2023-04-11 11:06:32 -0400 (Tue, 11 Apr 2023) EllapsedTime: 102.7 seconds RetCode: 0 Status: OK PackageFile: ExpHunterSuite_1.6.2.tar.gz PackageFileSize: 4.077 MiB