Package: chromhmmData Version: 0.99.2 Command: /home/biocbuild/bbs-3.16-bioc/R/bin/R CMD check --install=check:chromhmmData.install-out.txt --library=/home/biocbuild/bbs-3.16-bioc/R/site-library --timings chromhmmData_0.99.2.tar.gz StartedAt: 2023-04-12 03:04:31 -0400 (Wed, 12 Apr 2023) EndedAt: 2023-04-12 03:04:43 -0400 (Wed, 12 Apr 2023) EllapsedTime: 11.7 seconds RetCode: 0 Status: OK CheckDir: chromhmmData.Rcheck Warnings: 0