| Back to Mac ARM64 build report for BioC 3.16 | 
  | 
This page was generated on 2023-04-19 11:01:53 -0400 (Wed, 19 Apr 2023).
| Hostname | OS | Arch (*) | R version | Installed pkgs | 
|---|---|---|---|---|
| kjohnson | macOS 13.0 Ventura | arm64 | 4.2.2 (2022-10-31) -- "Innocent and Trusting" | 4256 | 
| Click on any hostname to see more info about the system (e.g. compilers) (*) as reported by 'uname -p', except on Windows and Mac OS X | ||||
| 
To the developers/maintainers of the vsn package: Make sure to use the following settings in order to reproduce any error or warning you see on this page.  | 
| Package 2153/2183 | Hostname | OS / Arch | INSTALL | BUILD | BUILD BIN | ||||||||
| vsn 3.66.0  (landing page) Wolfgang Huber 
  | kjohnson | macOS 13.0 Ventura / arm64 | OK | OK | OK | ||||||||
| QUICK STATS | OS / Arch | INSTALL | BUILD | BUILD BIN | |||||||||||||
| kjohnson | macOS 13.0 Ventura / arm64 | 
  | 
  | 
  | |||||||||||||
| Package 1/16 | Hostname | OS / Arch | INSTALL | BUILD | BUILD BIN | ||||||||||||
| arrayQualityMetrics 3.54.0  (landing page) Mike Smith 
  | kjohnson | macOS 13.0 Ventura / arm64 | OK | OK | OK | ||||||||||||
| Package 2/16 | Hostname | OS / Arch | INSTALL | BUILD | BUILD BIN | ||||||||||||
| bnem 1.6.0  (landing page) Martin Pirkl 
  | kjohnson | macOS 13.0 Ventura / arm64 | OK | OK | OK | ||||||||||||
| Package 3/16 | Hostname | OS / Arch | INSTALL | BUILD | BUILD BIN | ||||||||||||
| cellHTS2 2.62.0  (landing page) Joseph Barry 
  | kjohnson | macOS 13.0 Ventura / arm64 | OK | OK | OK | ||||||||||||
| Package 4/16 | Hostname | OS / Arch | INSTALL | BUILD | BUILD BIN | ||||||||||||
Juan David Henao 
  | kjohnson | macOS 13.0 Ventura / arm64 | OK | OK | OK | ||||||||||||
| Package 5/16 | Hostname | OS / Arch | INSTALL | BUILD | BUILD BIN | ||||||||||||
| DEP 1.20.0  (landing page) Arne Smits 
  | kjohnson | macOS 13.0 Ventura / arm64 | OK | OK | OK | ||||||||||||
| Package 6/16 | Hostname | OS / Arch | INSTALL | BUILD | BUILD BIN | ||||||||||||
| Doscheda 1.20.0  (landing page) Bruno Contrino 
  | kjohnson | macOS 13.0 Ventura / arm64 | OK | OK | OK | ||||||||||||
| Package 7/16 | Hostname | OS / Arch | INSTALL | BUILD | BUILD BIN | ||||||||||||
| imageHTS 1.48.0  (landing page) Joseph Barry 
  | kjohnson | macOS 13.0 Ventura / arm64 | OK | OK | OK | ||||||||||||
| Package 8/16 | Hostname | OS / Arch | INSTALL | BUILD | BUILD BIN | ||||||||||||
| MatrixQCvis 1.6.1  (landing page) Thomas Naake 
  | kjohnson | macOS 13.0 Ventura / arm64 | OK | OK | OK | ||||||||||||
| Package 9/16 | Hostname | OS / Arch | INSTALL | BUILD | BUILD BIN | ||||||||||||
| metaseqR2 1.10.0  (landing page) Panagiotis Moulos 
  | kjohnson | macOS 13.0 Ventura / arm64 | OK | OK | OK | ||||||||||||
| Package 10/16 | Hostname | OS / Arch | INSTALL | BUILD | BUILD BIN | ||||||||||||
| MSnbase 2.24.2  (landing page) Laurent Gatto 
  | kjohnson | macOS 13.0 Ventura / arm64 | OK | OK | OK | ||||||||||||
| Package 11/16 | Hostname | OS / Arch | INSTALL | BUILD | BUILD BIN | ||||||||||||
| NormalyzerDE 1.16.0  (landing page) Jakob Willforss 
  | kjohnson | macOS 13.0 Ventura / arm64 | OK | OK | OK | ||||||||||||
| Package 12/16 | Hostname | OS / Arch | INSTALL | BUILD | BUILD BIN | ||||||||||||
| protGear 1.2.0  (landing page) Kennedy Mwai 
  | kjohnson | macOS 13.0 Ventura / arm64 | OK | OK | OK | ||||||||||||
| Package 13/16 | Hostname | OS / Arch | INSTALL | BUILD | BUILD BIN | ||||||||||||
| pvca 1.38.0  (landing page) Jianying LI 
  | kjohnson | macOS 13.0 Ventura / arm64 | OK | OK | OK | ||||||||||||
| Package 14/16 | Hostname | OS / Arch | INSTALL | BUILD | BUILD BIN | ||||||||||||
| Ringo 1.62.0  (landing page) J. Toedling 
  | kjohnson | macOS 13.0 Ventura / arm64 | OK | OK | OK | ||||||||||||
| Package 15/16 | Hostname | OS / Arch | INSTALL | BUILD | BUILD BIN | ||||||||||||
| tilingArray 1.76.0  (landing page) Zhenyu Xu 
  | kjohnson | macOS 13.0 Ventura / arm64 | OK | OK | OK | ||||||||||||
| Package 16/16 | Hostname | OS / Arch | INSTALL | BUILD | BUILD BIN | ||||||||||||
| webbioc 1.70.0  (landing page) Colin A. Smith 
  | kjohnson | macOS 13.0 Ventura / arm64 | OK | OK | OK | ||||||||||||