| Back to Mac ARM64 build report for BioC 3.16 |
|
This page was generated on 2023-04-19 11:01:52 -0400 (Wed, 19 Apr 2023).
| Hostname | OS | Arch (*) | R version | Installed pkgs |
|---|---|---|---|---|
| kjohnson | macOS 13.0 Ventura | arm64 | 4.2.2 (2022-10-31) -- "Innocent and Trusting" | 4256 |
| Click on any hostname to see more info about the system (e.g. compilers) (*) as reported by 'uname -p', except on Windows and Mac OS X | ||||
|
To the developers/maintainers of the topGO package: Make sure to use the following settings in order to reproduce any error or warning you see on this page. |
| Package 2067/2183 | Hostname | OS / Arch | INSTALL | BUILD | BUILD BIN | ||||||||
| topGO 2.50.0 (landing page) Adrian Alexa
| kjohnson | macOS 13.0 Ventura / arm64 | OK | OK | OK | ||||||||
| QUICK STATS | OS / Arch | INSTALL | BUILD | BUILD BIN | |||||||||||||
| kjohnson | macOS 13.0 Ventura / arm64 |
|
|
| |||||||||||||
| Package 1/19 | Hostname | OS / Arch | INSTALL | BUILD | BUILD BIN | ||||||||||||
| APL 1.2.0 (landing page) Elzbieta Gralinska
| kjohnson | macOS 13.0 Ventura / arm64 | OK | ERROR | skipped | ||||||||||||
| Package 2/19 | Hostname | OS / Arch | INSTALL | BUILD | BUILD BIN | ||||||||||||
| BgeeDB 2.24.0 (landing page) Julien Wollbrett
| kjohnson | macOS 13.0 Ventura / arm64 | OK | OK | OK | ||||||||||||
| Package 3/19 | Hostname | OS / Arch | INSTALL | BUILD | BUILD BIN | ||||||||||||
| BioMM 1.14.0 (landing page) Junfang Chen
| kjohnson | macOS 13.0 Ventura / arm64 | OK | OK | OK | ||||||||||||
| Package 4/19 | Hostname | OS / Arch | INSTALL | BUILD | BUILD BIN | ||||||||||||
| cellity 1.26.0 (landing page) Tomislav Ilicic
| kjohnson | macOS 13.0 Ventura / arm64 | OK | OK | OK | ||||||||||||
| Package 5/19 | Hostname | OS / Arch | INSTALL | BUILD | BUILD BIN | ||||||||||||
David duVerle
| kjohnson | macOS 13.0 Ventura / arm64 | OK | ERROR | skipped | ||||||||||||
| Package 6/19 | Hostname | OS / Arch | INSTALL | BUILD | BUILD BIN | ||||||||||||
| compEpiTools 1.32.0 (landing page) Kamal Kishore
| kjohnson | macOS 13.0 Ventura / arm64 | OK | OK | OK | ||||||||||||
| Package 7/19 | Hostname | OS / Arch | INSTALL | BUILD | BUILD BIN | ||||||||||||
| consICA 1.0.0 (landing page) Petr V. Nazarov
| kjohnson | macOS 13.0 Ventura / arm64 | OK | OK | OK | ||||||||||||
| Package 8/19 | Hostname | OS / Arch | INSTALL | BUILD | BUILD BIN | ||||||||||||
| EGSEA 1.26.0 (landing page) Monther Alhamdoosh
| kjohnson | macOS 13.0 Ventura / arm64 | OK | OK | OK | ||||||||||||
| Package 9/19 | Hostname | OS / Arch | INSTALL | BUILD | BUILD BIN | ||||||||||||
| FoldGO 1.16.0 (landing page) Daniil Wiebe
| kjohnson | macOS 13.0 Ventura / arm64 | OK | OK | OK | ||||||||||||
| Package 10/19 | Hostname | OS / Arch | INSTALL | BUILD | BUILD BIN | ||||||||||||
| GOSim 1.36.0 (landing page) Holger Froehlich
| kjohnson | macOS 13.0 Ventura / arm64 | OK | OK | OK | ||||||||||||
| Package 11/19 | Hostname | OS / Arch | INSTALL | BUILD | BUILD BIN | ||||||||||||
| GRaNIE 1.2.7 (landing page) Christian Arnold
| kjohnson | macOS 13.0 Ventura / arm64 | OK | OK | OK | ||||||||||||
| Package 12/19 | Hostname | OS / Arch | INSTALL | BUILD | BUILD BIN | ||||||||||||
| ideal 1.22.0 (landing page) Federico Marini
| kjohnson | macOS 13.0 Ventura / arm64 | OK | OK | OK | ||||||||||||
| Package 13/19 | Hostname | OS / Arch | INSTALL | BUILD | BUILD BIN | ||||||||||||
| moanin 1.6.0 (landing page) Nelle Varoquaux
| kjohnson | macOS 13.0 Ventura / arm64 | OK | OK | OK | ||||||||||||
| Package 14/19 | Hostname | OS / Arch | INSTALL | BUILD | BUILD BIN | ||||||||||||
| OmaDB 2.14.0 (landing page) Klara Kaleb
| kjohnson | macOS 13.0 Ventura / arm64 | OK | OK | OK | ||||||||||||
| Package 15/19 | Hostname | OS / Arch | INSTALL | BUILD | BUILD BIN | ||||||||||||
| pcaExplorer 2.24.0 (landing page) Federico Marini
| kjohnson | macOS 13.0 Ventura / arm64 | OK | OK | OK | ||||||||||||
| Package 16/19 | Hostname | OS / Arch | INSTALL | BUILD | BUILD BIN | ||||||||||||
| psygenet2r 1.30.0 (landing page) Alba Gutierrez-Sacristan
| kjohnson | macOS 13.0 Ventura / arm64 | OK | TIMEOUT | skipped | ||||||||||||
| Package 17/19 | Hostname | OS / Arch | INSTALL | BUILD | BUILD BIN | ||||||||||||
| transcriptogramer 1.20.0 (landing page) Diego Morais
| kjohnson | macOS 13.0 Ventura / arm64 | OK | OK | OK | ||||||||||||
| Package 18/19 | Hostname | OS / Arch | INSTALL | BUILD | BUILD BIN | ||||||||||||
| tRanslatome 1.36.0 (landing page) Toma Tebaldi
| kjohnson | macOS 13.0 Ventura / arm64 | OK | OK | OK | ||||||||||||
| Package 19/19 | Hostname | OS / Arch | INSTALL | BUILD | BUILD BIN | ||||||||||||
| ViSEAGO 1.12.0 (landing page) Aurelien Brionne
| kjohnson | macOS 13.0 Ventura / arm64 | OK | OK | OK | ||||||||||||