Package: subSeq Version: 1.28.0 Command: /Library/Frameworks/R.framework/Resources/bin/R CMD INSTALL subSeq StartedAt: 2023-04-16 15:01:40 -0400 (Sun, 16 Apr 2023) EndedAt: 2023-04-16 15:01:53 -0400 (Sun, 16 Apr 2023) EllapsedTime: 12.6 seconds RetCode: 0 Status: OK