Package: subSeq Version: 1.28.0 Command: /Library/Frameworks/R.framework/Resources/bin/R CMD build --keep-empty-dirs --no-resave-data subSeq StartedAt: 2023-04-18 09:48:10 -0400 (Tue, 18 Apr 2023) EndedAt: 2023-04-18 09:49:06 -0400 (Tue, 18 Apr 2023) EllapsedTime: 55.9 seconds RetCode: 0 Status: OK PackageFile: subSeq_1.28.0.tar.gz PackageFileSize: 2.917 MiB