Package: ssviz Version: 1.32.0 Command: /Library/Frameworks/R.framework/Resources/bin/R CMD build --keep-empty-dirs --no-resave-data ssviz StartedAt: 2023-04-18 09:23:38 -0400 (Tue, 18 Apr 2023) EndedAt: 2023-04-18 09:24:13 -0400 (Tue, 18 Apr 2023) EllapsedTime: 34.9 seconds RetCode: 0 Status: OK PackageFile: ssviz_1.32.0.tar.gz PackageFileSize: 1.152 MiB