| Back to Mac ARM64 build report for BioC 3.16 |
|
This page was generated on 2023-04-19 11:01:52 -0400 (Wed, 19 Apr 2023).
| Hostname | OS | Arch (*) | R version | Installed pkgs |
|---|---|---|---|---|
| kjohnson | macOS 13.0 Ventura | arm64 | 4.2.2 (2022-10-31) -- "Innocent and Trusting" | 4256 |
| Click on any hostname to see more info about the system (e.g. compilers) (*) as reported by 'uname -p', except on Windows and Mac OS X | ||||
|
To the developers/maintainers of the snpStats package: Make sure to use the following settings in order to reproduce any error or warning you see on this page. |
| Package 1912/2183 | Hostname | OS / Arch | INSTALL | BUILD | BUILD BIN | ||||||||
| snpStats 1.48.0 (landing page) David Clayton
| kjohnson | macOS 13.0 Ventura / arm64 | OK | OK | OK | ||||||||
| QUICK STATS | OS / Arch | INSTALL | BUILD | BUILD BIN | |||||||||||||
| kjohnson | macOS 13.0 Ventura / arm64 |
|
|
| |||||||||||||
| Package 1/8 | Hostname | OS / Arch | INSTALL | BUILD | BUILD BIN | ||||||||||||
| cardelino 1.0.0 (landing page) Jeffrey Pullin
| kjohnson | macOS 13.0 Ventura / arm64 | OK | OK | OK | ||||||||||||
| Package 2/8 | Hostname | OS / Arch | INSTALL | BUILD | BUILD BIN | ||||||||||||
| DExMA 1.6.0 (landing page) Juan Antonio Villatoro-GarcĂa
| kjohnson | macOS 13.0 Ventura / arm64 | OK | OK | OK | ||||||||||||
| Package 3/8 | Hostname | OS / Arch | INSTALL | BUILD | BUILD BIN | ||||||||||||
| GeneGeneInteR 1.24.0 (landing page) Mathieu Emily
| kjohnson | macOS 13.0 Ventura / arm64 | OK | OK | OK | ||||||||||||
| Package 4/8 | Hostname | OS / Arch | INSTALL | BUILD | BUILD BIN | ||||||||||||
| gwascat 2.30.0 (landing page) VJ Carey
| kjohnson | macOS 13.0 Ventura / arm64 | OK | OK | OK | ||||||||||||
| Package 5/8 | Hostname | OS / Arch | INSTALL | BUILD | BUILD BIN | ||||||||||||
| MAGAR 1.6.0 (landing page) Michael Scherer
| kjohnson | macOS 13.0 Ventura / arm64 | OK | OK | OK | ||||||||||||
| Package 6/8 | Hostname | OS / Arch | INSTALL | BUILD | BUILD BIN | ||||||||||||
| martini 1.18.1 (landing page) Hector Climente-Gonzalez
| kjohnson | macOS 13.0 Ventura / arm64 | OK | OK | OK | ||||||||||||
| Package 7/8 | Hostname | OS / Arch | INSTALL | BUILD | BUILD BIN | ||||||||||||
| RVS 1.20.0 (landing page) Thomas Sherman
| kjohnson | macOS 13.0 Ventura / arm64 | OK | OK | OK | ||||||||||||
| Package 8/8 | Hostname | OS / Arch | INSTALL | BUILD | BUILD BIN | ||||||||||||
| scoreInvHap 1.20.0 (landing page) Dolors Pelegri-Siso
| kjohnson | macOS 13.0 Ventura / arm64 | OK | OK | OK | ||||||||||||