| Back to Mac ARM64 build report for BioC 3.16 |
|
This page was generated on 2023-04-19 11:01:51 -0400 (Wed, 19 Apr 2023).
| Hostname | OS | Arch (*) | R version | Installed pkgs |
|---|---|---|---|---|
| kjohnson | macOS 13.0 Ventura | arm64 | 4.2.2 (2022-10-31) -- "Innocent and Trusting" | 4256 |
| Click on any hostname to see more info about the system (e.g. compilers) (*) as reported by 'uname -p', except on Windows and Mac OS X | ||||
|
To the developers/maintainers of the rhdf5 package: Make sure to use the following settings in order to reproduce any error or warning you see on this page. |
| Package 1670/2183 | Hostname | OS / Arch | INSTALL | BUILD | BUILD BIN | ||||||||
| rhdf5 2.42.1 (landing page) Mike Smith
| kjohnson | macOS 13.0 Ventura / arm64 | OK | OK | OK | ||||||||
| QUICK STATS | OS / Arch | INSTALL | BUILD | BUILD BIN | |||||||||||||
| kjohnson | macOS 13.0 Ventura / arm64 |
|
|
| |||||||||||||
| Package 1/43 | Hostname | OS / Arch | INSTALL | BUILD | BUILD BIN | ||||||||||||
| BayesSpace 1.8.2 (landing page) Matt Stone
| kjohnson | macOS 13.0 Ventura / arm64 | OK | OK | OK | ||||||||||||
| Package 2/43 | Hostname | OS / Arch | INSTALL | BUILD | BUILD BIN | ||||||||||||
| BgeeCall 1.14.0 (landing page) Julien Wollbrett
| kjohnson | macOS 13.0 Ventura / arm64 | OK | OK | OK | ||||||||||||
| Package 3/43 | Hostname | OS / Arch | INSTALL | BUILD | BUILD BIN | ||||||||||||
| biomformat 1.26.0 (landing page) Paul J. McMurdie
| kjohnson | macOS 13.0 Ventura / arm64 | OK | OK | OK | ||||||||||||
| Package 4/43 | Hostname | OS / Arch | INSTALL | BUILD | BUILD BIN | ||||||||||||
| bnbc 1.20.0 (landing page) Kipper Fletez-Brant
| kjohnson | macOS 13.0 Ventura / arm64 | OK | OK | OK | ||||||||||||
| Package 5/43 | Hostname | OS / Arch | INSTALL | BUILD | BUILD BIN | ||||||||||||
| bsseq 1.34.0 (landing page) Kasper Daniel Hansen
| kjohnson | macOS 13.0 Ventura / arm64 | OK | OK | OK | ||||||||||||
| Package 6/43 | Hostname | OS / Arch | INSTALL | BUILD | BUILD BIN | ||||||||||||
| CiteFuse 1.10.0 (landing page) Yingxin Lin
| kjohnson | macOS 13.0 Ventura / arm64 | OK | OK | OK | ||||||||||||
| Package 7/43 | Hostname | OS / Arch | INSTALL | BUILD | BUILD BIN | ||||||||||||
| cmapR 1.10.0 (landing page) Ted Natoli
| kjohnson | macOS 13.0 Ventura / arm64 | OK | OK | OK | ||||||||||||
| Package 8/43 | Hostname | OS / Arch | INSTALL | BUILD | BUILD BIN | ||||||||||||
| CoGAPS 3.18.0 (landing page) Elana J. Fertig
| kjohnson | macOS 13.0 Ventura / arm64 | ERROR | ERROR | skipped | ||||||||||||
| Package 9/43 | Hostname | OS / Arch | INSTALL | BUILD | BUILD BIN | ||||||||||||
| CopyNumberPlots 1.14.0 (landing page) Bernat Gel
| kjohnson | macOS 13.0 Ventura / arm64 | OK | OK | OK | ||||||||||||
| Package 10/43 | Hostname | OS / Arch | INSTALL | BUILD | BUILD BIN | ||||||||||||
| CRISPRseek 1.38.0 (landing page) Lihua Julie Zhu
| kjohnson | macOS 13.0 Ventura / arm64 | OK | OK | OK | ||||||||||||
| Package 11/43 | Hostname | OS / Arch | INSTALL | BUILD | BUILD BIN | ||||||||||||
| cTRAP 1.16.0 (landing page) Nuno Saraiva-Agostinho
| kjohnson | macOS 13.0 Ventura / arm64 | OK | OK | OK | ||||||||||||
| Package 12/43 | Hostname | OS / Arch | INSTALL | BUILD | BUILD BIN | ||||||||||||
| cytomapper 1.10.1 (landing page) Nils Eling
| kjohnson | macOS 13.0 Ventura / arm64 | OK | OK | OK | ||||||||||||
| Package 13/43 | Hostname | OS / Arch | INSTALL | BUILD | BUILD BIN | ||||||||||||
| diffHic 1.30.0 (landing page) Aaron Lun
| kjohnson | macOS 13.0 Ventura / arm64 | OK | OK | OK | ||||||||||||
| Package 14/43 | Hostname | OS / Arch | INSTALL | BUILD | BUILD BIN | ||||||||||||
| DropletUtils 1.18.1 (landing page) Jonathan Griffiths
| kjohnson | macOS 13.0 Ventura / arm64 | OK | OK | OK | ||||||||||||
| Package 15/43 | Hostname | OS / Arch | INSTALL | BUILD | BUILD BIN | ||||||||||||
| epigraHMM 1.6.4 (landing page) Pedro Baldoni
| kjohnson | macOS 13.0 Ventura / arm64 | OK | OK | OK | ||||||||||||
| Package 16/43 | Hostname | OS / Arch | INSTALL | BUILD | BUILD BIN | ||||||||||||
| EventPointer 3.6.0 (landing page) Juan A. Ferrer-Bonsoms
| kjohnson | macOS 13.0 Ventura / arm64 | OK | OK | OK | ||||||||||||
| Package 17/43 | Hostname | OS / Arch | INSTALL | BUILD | BUILD BIN | ||||||||||||
| FRASER 1.10.2 (landing page) Christian Mertes
| kjohnson | macOS 13.0 Ventura / arm64 | OK | OK | OK | ||||||||||||
| Package 18/43 | Hostname | OS / Arch | INSTALL | BUILD | BUILD BIN | ||||||||||||
| GenomicScores 2.10.0 (landing page) Robert Castelo
| kjohnson | macOS 13.0 Ventura / arm64 | OK | OK | OK | ||||||||||||
| Package 19/43 | Hostname | OS / Arch | INSTALL | BUILD | BUILD BIN | ||||||||||||
| gep2pep 1.18.0 (landing page) Francesco Napolitano
| kjohnson | macOS 13.0 Ventura / arm64 | OK | OK | OK | ||||||||||||
| Package 20/43 | Hostname | OS / Arch | INSTALL | BUILD | BUILD BIN | ||||||||||||
| GSCA 2.28.0 (landing page) Zhicheng Ji
| kjohnson | macOS 13.0 Ventura / arm64 | OK | OK | OK | ||||||||||||
| Package 21/43 | Hostname | OS / Arch | INSTALL | BUILD | BUILD BIN | ||||||||||||
| h5vc 2.32.0 (landing page) Paul Theodor Pyl
| kjohnson | macOS 13.0 Ventura / arm64 | OK | OK | OK | ||||||||||||
| Package 22/43 | Hostname | OS / Arch | INSTALL | BUILD | BUILD BIN | ||||||||||||
| HDF5Array 1.26.0 (landing page) Hervé Pagès
| kjohnson | macOS 13.0 Ventura / arm64 | OK | OK | OK | ||||||||||||
| Package 23/43 | Hostname | OS / Arch | INSTALL | BUILD | BUILD BIN | ||||||||||||
| HiCBricks 1.16.0 (landing page) Koustav Pal
| kjohnson | macOS 13.0 Ventura / arm64 | OK | OK | OK | ||||||||||||
| Package 24/43 | Hostname | OS / Arch | INSTALL | BUILD | BUILD BIN | ||||||||||||
| HiCcompare 1.20.0 (landing page) John Stansfield
| kjohnson | macOS 13.0 Ventura / arm64 | OK | OK | OK | ||||||||||||
| Package 25/43 | Hostname | OS / Arch | INSTALL | BUILD | BUILD BIN | ||||||||||||
| HiCDOC 1.0.0 (landing page) Maigné Élise
| kjohnson | macOS 13.0 Ventura / arm64 | OK | OK | OK | ||||||||||||
| Package 26/43 | Hostname | OS / Arch | INSTALL | BUILD | BUILD BIN | ||||||||||||
| HiContacts 1.0.0 (landing page) Jacques Serizay
| kjohnson | macOS 13.0 Ventura / arm64 | OK | OK | OK | ||||||||||||
| Package 27/43 | Hostname | OS / Arch | INSTALL | BUILD | BUILD BIN | ||||||||||||
| IONiseR 2.22.0 (landing page) Mike Smith
| kjohnson | macOS 13.0 Ventura / arm64 | OK | OK | OK | ||||||||||||
| Package 28/43 | Hostname | OS / Arch | INSTALL | BUILD | BUILD BIN | ||||||||||||
| LoomExperiment 1.16.0 (landing page) Bioconductor Package Maintainer
| kjohnson | macOS 13.0 Ventura / arm64 | OK | OK | OK | ||||||||||||
| Package 29/43 | Hostname | OS / Arch | INSTALL | BUILD | BUILD BIN | ||||||||||||
| MOFA2 1.8.0 (landing page) Ricard Argelaguet
| kjohnson | macOS 13.0 Ventura / arm64 | OK | OK | OK | ||||||||||||
| Package 30/43 | Hostname | OS / Arch | INSTALL | BUILD | BUILD BIN | ||||||||||||
| MuData 1.2.0 (landing page) Danila Bredikhin
| kjohnson | macOS 13.0 Ventura / arm64 | OK | OK | OK | ||||||||||||
| Package 31/43 | Hostname | OS / Arch | INSTALL | BUILD | BUILD BIN | ||||||||||||
| NxtIRFcore 1.4.0 (landing page) Alex Chit Hei Wong
| kjohnson | macOS 13.0 Ventura / arm64 | OK | OK | OK | ||||||||||||
| Package 32/43 | Hostname | OS / Arch | INSTALL | BUILD | BUILD BIN | ||||||||||||
| octad 1.0.0 (landing page) E. Chekalin
| kjohnson | macOS 13.0 Ventura / arm64 | OK | OK | OK | ||||||||||||
| Package 33/43 | Hostname | OS / Arch | INSTALL | BUILD | BUILD BIN | ||||||||||||
| phantasus 1.18.4 (landing page) Alexey Sergushichev
| kjohnson | macOS 13.0 Ventura / arm64 | OK | OK | OK | ||||||||||||
| Package 34/43 | Hostname | OS / Arch | INSTALL | BUILD | BUILD BIN | ||||||||||||
| ptairMS 1.6.0 (landing page) camille Roquencourt
| kjohnson | macOS 13.0 Ventura / arm64 | OK | OK | OK | ||||||||||||
| Package 35/43 | Hostname | OS / Arch | INSTALL | BUILD | BUILD BIN | ||||||||||||
| PureCN 2.4.0 (landing page) Markus Riester
| kjohnson | macOS 13.0 Ventura / arm64 | OK | OK | OK | ||||||||||||
| Package 36/43 | Hostname | OS / Arch | INSTALL | BUILD | BUILD BIN | ||||||||||||
| recountmethylation 1.8.6 (landing page) Sean K Maden
| kjohnson | macOS 13.0 Ventura / arm64 | OK | OK | OK | ||||||||||||
| Package 37/43 | Hostname | OS / Arch | INSTALL | BUILD | BUILD BIN | ||||||||||||
| ribor 1.10.0 (landing page) Michael Geng
| kjohnson | macOS 13.0 Ventura / arm64 | OK | OK | OK | ||||||||||||
| Package 38/43 | Hostname | OS / Arch | INSTALL | BUILD | BUILD BIN | ||||||||||||
| scCB2 1.8.0 (landing page) Zijian Ni
| kjohnson | macOS 13.0 Ventura / arm64 | OK | OK | OK | ||||||||||||
| Package 39/43 | Hostname | OS / Arch | INSTALL | BUILD | BUILD BIN | ||||||||||||
| scone 1.22.0 (landing page) Davide Risso
| kjohnson | macOS 13.0 Ventura / arm64 | OK | OK | OK | ||||||||||||
| Package 40/43 | Hostname | OS / Arch | INSTALL | BUILD | BUILD BIN | ||||||||||||
| signatureSearch 1.12.0 (landing page) Brendan Gongol
| kjohnson | macOS 13.0 Ventura / arm64 | OK | OK | OK | ||||||||||||
| Package 41/43 | Hostname | OS / Arch | INSTALL | BUILD | BUILD BIN | ||||||||||||
| SpliceWiz 1.0.4 (landing page) Alex Chit Hei Wong
| kjohnson | macOS 13.0 Ventura / arm64 | OK | OK | OK | ||||||||||||
| Package 42/43 | Hostname | OS / Arch | INSTALL | BUILD | BUILD BIN | ||||||||||||
| SpotClean 1.0.1 (landing page) Zijian Ni
| kjohnson | macOS 13.0 Ventura / arm64 | OK | OK | OK | ||||||||||||
| Package 43/43 | Hostname | OS / Arch | INSTALL | BUILD | BUILD BIN | ||||||||||||
| trackViewer 1.34.0 (landing page) Jianhong Ou
| kjohnson | macOS 13.0 Ventura / arm64 | OK | OK | OK | ||||||||||||