Package: pwOmics Version: 1.30.0 Command: /Library/Frameworks/R.framework/Resources/bin/R CMD build --keep-empty-dirs --no-resave-data pwOmics StartedAt: 2023-04-17 23:08:59 -0400 (Mon, 17 Apr 2023) EndedAt: 2023-04-17 23:09:01 -0400 (Mon, 17 Apr 2023) EllapsedTime: 2.1 seconds RetCode: 0 Status: OK PackageFile: pwOmics_1.30.0.tar.gz PackageFileSize: 882.6 KiB