| Back to Mac ARM64 build report for BioC 3.16 |
|
This page was generated on 2023-04-19 11:01:50 -0400 (Wed, 19 Apr 2023).
| Hostname | OS | Arch (*) | R version | Installed pkgs |
|---|---|---|---|---|
| kjohnson | macOS 13.0 Ventura | arm64 | 4.2.2 (2022-10-31) -- "Innocent and Trusting" | 4256 |
| Click on any hostname to see more info about the system (e.g. compilers) (*) as reported by 'uname -p', except on Windows and Mac OS X | ||||
|
To the developers/maintainers of the mzR package: Make sure to use the following settings in order to reproduce any error or warning you see on this page. |
| Package 1319/2183 | Hostname | OS / Arch | INSTALL | BUILD | BUILD BIN | ||||||||
| mzR 2.32.0 (landing page) Steffen Neumann
| kjohnson | macOS 13.0 Ventura / arm64 | OK | OK | OK | ||||||||
| QUICK STATS | OS / Arch | INSTALL | BUILD | BUILD BIN | |||||||||||||
| kjohnson | macOS 13.0 Ventura / arm64 |
|
|
| |||||||||||||
| Package 1/13 | Hostname | OS / Arch | INSTALL | BUILD | BUILD BIN | ||||||||||||
| adductomicsR 1.14.0 (landing page) Josie Hayes
| kjohnson | macOS 13.0 Ventura / arm64 | OK | OK | OK | ||||||||||||
| Package 2/13 | Hostname | OS / Arch | INSTALL | BUILD | BUILD BIN | ||||||||||||
| CluMSID 1.14.0 (landing page) Tobias Depke
| kjohnson | macOS 13.0 Ventura / arm64 | OK | OK | OK | ||||||||||||
| Package 3/13 | Hostname | OS / Arch | INSTALL | BUILD | BUILD BIN | ||||||||||||
| DIAlignR 2.6.0 (landing page) Shubham Gupta
| kjohnson | macOS 13.0 Ventura / arm64 | OK | OK | OK | ||||||||||||
| Package 4/13 | Hostname | OS / Arch | INSTALL | BUILD | BUILD BIN | ||||||||||||
| MSnbase 2.24.2 (landing page) Laurent Gatto
| kjohnson | macOS 13.0 Ventura / arm64 | OK | OK | OK | ||||||||||||
| Package 5/13 | Hostname | OS / Arch | INSTALL | BUILD | BUILD BIN | ||||||||||||
| MSnID 1.32.0 (landing page) Vlad Petyuk
| kjohnson | macOS 13.0 Ventura / arm64 | OK | OK | OK | ||||||||||||
| Package 6/13 | Hostname | OS / Arch | INSTALL | BUILD | BUILD BIN | ||||||||||||
| msPurity 1.24.0 (landing page) Thomas N. Lawson
| kjohnson | macOS 13.0 Ventura / arm64 | OK | ERROR | skipped | ||||||||||||
| Package 7/13 | Hostname | OS / Arch | INSTALL | BUILD | BUILD BIN | ||||||||||||
| peakPantheR 1.12.2 (landing page) Arnaud Wolfer
| kjohnson | macOS 13.0 Ventura / arm64 | OK | OK | OK | ||||||||||||
| Package 8/13 | Hostname | OS / Arch | INSTALL | BUILD | BUILD BIN | ||||||||||||
| RMassBank 3.8.0 (landing page) RMassBank at Eawag
| kjohnson | macOS 13.0 Ventura / arm64 | ERROR | ERROR | skipped | ||||||||||||
| Package 9/13 | Hostname | OS / Arch | INSTALL | BUILD | BUILD BIN | ||||||||||||
| SIMAT 1.30.0 (landing page) M. R. Nezami Ranjbar
| kjohnson | macOS 13.0 Ventura / arm64 | OK | OK | OK | ||||||||||||
| Package 10/13 | Hostname | OS / Arch | INSTALL | BUILD | BUILD BIN | ||||||||||||
| TargetDecoy 1.4.0 (landing page) Elke Debrie
| kjohnson | macOS 13.0 Ventura / arm64 | OK | OK | OK | ||||||||||||
| Package 11/13 | Hostname | OS / Arch | INSTALL | BUILD | BUILD BIN | ||||||||||||
| topdownr 1.20.0 (landing page) Sebastian Gibb
| kjohnson | macOS 13.0 Ventura / arm64 | OK | OK | OK | ||||||||||||
| Package 12/13 | Hostname | OS / Arch | INSTALL | BUILD | BUILD BIN | ||||||||||||
| xcms 3.20.0 (landing page) Steffen Neumann
| kjohnson | macOS 13.0 Ventura / arm64 | OK | OK | OK | ||||||||||||
| Package 13/13 | Hostname | OS / Arch | INSTALL | BUILD | BUILD BIN | ||||||||||||
| yamss 1.24.0 (landing page) Leslie Myint
| kjohnson | macOS 13.0 Ventura / arm64 | OK | OK | OK | ||||||||||||