| Back to Mac ARM64 build report for BioC 3.16 | 
  | 
This page was generated on 2023-04-19 11:01:50 -0400 (Wed, 19 Apr 2023).
| Hostname | OS | Arch (*) | R version | Installed pkgs | 
|---|---|---|---|---|
| kjohnson | macOS 13.0 Ventura | arm64 | 4.2.2 (2022-10-31) -- "Innocent and Trusting" | 4256 | 
| Click on any hostname to see more info about the system (e.g. compilers) (*) as reported by 'uname -p', except on Windows and Mac OS X | ||||
| 
To the developers/maintainers of the karyoploteR package: Make sure to use the following settings in order to reproduce any error or warning you see on this page.  | 
| Package 1018/2183 | Hostname | OS / Arch | INSTALL | BUILD | BUILD BIN | ||||||||
| karyoploteR 1.24.0  (landing page) Bernat Gel 
  | kjohnson | macOS 13.0 Ventura / arm64 | OK | OK | OK | ||||||||
| QUICK STATS | OS / Arch | INSTALL | BUILD | BUILD BIN | |||||||||||||
| kjohnson | macOS 13.0 Ventura / arm64 | 
  | 
  | 
  | |||||||||||||
| Package 1/5 | Hostname | OS / Arch | INSTALL | BUILD | BUILD BIN | ||||||||||||
| CNVfilteR 1.12.2  (landing page) Jose Marcos Moreno-Cabrera 
  | kjohnson | macOS 13.0 Ventura / arm64 | OK | OK | OK | ||||||||||||
| Package 2/5 | Hostname | OS / Arch | INSTALL | BUILD | BUILD BIN | ||||||||||||
| CNViz 1.6.0  (landing page) Rebecca Greenblatt 
  | kjohnson | macOS 13.0 Ventura / arm64 | OK | OK | OK | ||||||||||||
| Package 3/5 | Hostname | OS / Arch | INSTALL | BUILD | BUILD BIN | ||||||||||||
| CopyNumberPlots 1.14.0  (landing page) Bernat Gel 
  | kjohnson | macOS 13.0 Ventura / arm64 | OK | OK | OK | ||||||||||||
| Package 4/5 | Hostname | OS / Arch | INSTALL | BUILD | BUILD BIN | ||||||||||||
| multicrispr 1.8.0  (landing page) Aditya Bhagwat 
  | kjohnson | macOS 13.0 Ventura / arm64 | OK | OK | OK | ||||||||||||
| Package 5/5 | Hostname | OS / Arch | INSTALL | BUILD | BUILD BIN | ||||||||||||
| RIPAT 1.8.0  (landing page) Min-Jeong Baek 
  | kjohnson | macOS 13.0 Ventura / arm64 | OK | OK | OK | ||||||||||||