| Back to Mac ARM64 build report for BioC 3.16 |
|
This page was generated on 2023-04-19 11:01:49 -0400 (Wed, 19 Apr 2023).
| Hostname | OS | Arch (*) | R version | Installed pkgs |
|---|---|---|---|---|
| kjohnson | macOS 13.0 Ventura | arm64 | 4.2.2 (2022-10-31) -- "Innocent and Trusting" | 4256 |
| Click on any hostname to see more info about the system (e.g. compilers) (*) as reported by 'uname -p', except on Windows and Mac OS X | ||||
|
To the developers/maintainers of the graphite package: Make sure to use the following settings in order to reproduce any error or warning you see on this page. |
| Package 858/2183 | Hostname | OS / Arch | INSTALL | BUILD | BUILD BIN | ||||||||
| graphite 1.44.0 (landing page) Gabriele Sales
| kjohnson | macOS 13.0 Ventura / arm64 | OK | OK | OK | ||||||||
| QUICK STATS | OS / Arch | INSTALL | BUILD | BUILD BIN | |||||||||||||
| kjohnson | macOS 13.0 Ventura / arm64 |
|
|
| |||||||||||||
| Package 1/8 | Hostname | OS / Arch | INSTALL | BUILD | BUILD BIN | ||||||||||||
| dce 1.6.0 (landing page) Kim Philipp Jablonski
| kjohnson | macOS 13.0 Ventura / arm64 | OK | OK | OK | ||||||||||||
| Package 2/8 | Hostname | OS / Arch | INSTALL | BUILD | BUILD BIN | ||||||||||||
| EnrichmentBrowser 2.28.2 (landing page) Ludwig Geistlinger
| kjohnson | macOS 13.0 Ventura / arm64 | OK | OK | OK | ||||||||||||
| Package 3/8 | Hostname | OS / Arch | INSTALL | BUILD | BUILD BIN | ||||||||||||
| mogsa 1.32.0 (landing page) Chen Meng
| kjohnson | macOS 13.0 Ventura / arm64 | OK | OK | OK | ||||||||||||
| Package 4/8 | Hostname | OS / Arch | INSTALL | BUILD | BUILD BIN | ||||||||||||
| multiGSEA 1.8.3 (landing page) Sebastian Canzler
| kjohnson | macOS 13.0 Ventura / arm64 | OK | OK | OK | ||||||||||||
| Package 5/8 | Hostname | OS / Arch | INSTALL | BUILD | BUILD BIN | ||||||||||||
Margaret Linan
| kjohnson | macOS 13.0 Ventura / arm64 | OK | ERROR | skipped | ||||||||||||
| Package 6/8 | Hostname | OS / Arch | INSTALL | BUILD | BUILD BIN | ||||||||||||
| ReactomePA 1.42.0 (landing page) Guangchuang Yu
| kjohnson | macOS 13.0 Ventura / arm64 | OK | OK | OK | ||||||||||||
| Package 7/8 | Hostname | OS / Arch | INSTALL | BUILD | BUILD BIN | ||||||||||||
| sSNAPPY 1.2.5 (landing page) Wenjun Liu
| kjohnson | macOS 13.0 Ventura / arm64 | OK | OK | OK | ||||||||||||
| Package 8/8 | Hostname | OS / Arch | INSTALL | BUILD | BUILD BIN | ||||||||||||
| StarBioTrek 1.24.0 (landing page) Claudia Cava
| kjohnson | macOS 13.0 Ventura / arm64 | OK | OK | OK | ||||||||||||