Package: gmapR Version: 1.40.0 Command: /Library/Frameworks/R.framework/Resources/bin/R CMD INSTALL gmapR StartedAt: 2023-04-16 16:45:03 -0400 (Sun, 16 Apr 2023) EndedAt: 2023-04-16 16:46:38 -0400 (Sun, 16 Apr 2023) EllapsedTime: 94.9 seconds RetCode: 1 Status: ERROR