| Back to Mac ARM64 build report for BioC 3.16 |
|
This page was generated on 2023-04-19 11:01:49 -0400 (Wed, 19 Apr 2023).
| Hostname | OS | Arch (*) | R version | Installed pkgs |
|---|---|---|---|---|
| kjohnson | macOS 13.0 Ventura | arm64 | 4.2.2 (2022-10-31) -- "Innocent and Trusting" | 4256 |
| Click on any hostname to see more info about the system (e.g. compilers) (*) as reported by 'uname -p', except on Windows and Mac OS X | ||||
|
To the developers/maintainers of the ggtree package: Make sure to use the following settings in order to reproduce any error or warning you see on this page. |
| Package 816/2183 | Hostname | OS / Arch | INSTALL | BUILD | BUILD BIN | ||||||||
| ggtree 3.6.2 (landing page) Guangchuang Yu
| kjohnson | macOS 13.0 Ventura / arm64 | OK | OK | OK | ||||||||
| QUICK STATS | OS / Arch | INSTALL | BUILD | BUILD BIN | |||||||||||||
| kjohnson | macOS 13.0 Ventura / arm64 |
|
|
| |||||||||||||
| Package 1/19 | Hostname | OS / Arch | INSTALL | BUILD | BUILD BIN | ||||||||||||
| cardelino 1.0.0 (landing page) Jeffrey Pullin
| kjohnson | macOS 13.0 Ventura / arm64 | OK | OK | OK | ||||||||||||
| Package 2/19 | Hostname | OS / Arch | INSTALL | BUILD | BUILD BIN | ||||||||||||
| cogeqc 1.2.1 (landing page) FabrÃcio Almeida-Silva
| kjohnson | macOS 13.0 Ventura / arm64 | OK | OK | OK | ||||||||||||
| Package 3/19 | Hostname | OS / Arch | INSTALL | BUILD | BUILD BIN | ||||||||||||
| enrichplot 1.18.4 (landing page) Guangchuang Yu
| kjohnson | macOS 13.0 Ventura / arm64 | OK | OK | OK | ||||||||||||
| Package 4/19 | Hostname | OS / Arch | INSTALL | BUILD | BUILD BIN | ||||||||||||
| ggmsa 1.4.0 (landing page) Lang Zhou
| kjohnson | macOS 13.0 Ventura / arm64 | OK | OK | OK | ||||||||||||
| Package 5/19 | Hostname | OS / Arch | INSTALL | BUILD | BUILD BIN | ||||||||||||
| ggtreeDendro 1.0.0 (landing page) Guangchuang Yu
| kjohnson | macOS 13.0 Ventura / arm64 | OK | OK | OK | ||||||||||||
| Package 6/19 | Hostname | OS / Arch | INSTALL | BUILD | BUILD BIN | ||||||||||||
| ggtreeExtra 1.8.1 (landing page) Shuangbin Xu
| kjohnson | macOS 13.0 Ventura / arm64 | OK | OK | OK | ||||||||||||
| Package 7/19 | Hostname | OS / Arch | INSTALL | BUILD | BUILD BIN | ||||||||||||
| LinTInd 1.2.0 (landing page) Luyue Wang
| kjohnson | macOS 13.0 Ventura / arm64 | OK | OK | OK | ||||||||||||
| Package 8/19 | Hostname | OS / Arch | INSTALL | BUILD | BUILD BIN | ||||||||||||
| LymphoSeq 1.26.0 (landing page) David Coffey
| kjohnson | macOS 13.0 Ventura / arm64 | OK | OK | OK | ||||||||||||
| Package 9/19 | Hostname | OS / Arch | INSTALL | BUILD | BUILD BIN | ||||||||||||
| miaViz 1.6.0 (landing page) Tuomas Borman
| kjohnson | macOS 13.0 Ventura / arm64 | OK | OK | OK | ||||||||||||
| Package 10/19 | Hostname | OS / Arch | INSTALL | BUILD | BUILD BIN | ||||||||||||
| microbiomeMarker 1.4.0 (landing page) Yang Cao
| kjohnson | macOS 13.0 Ventura / arm64 | OK | OK | OK | ||||||||||||
| Package 11/19 | Hostname | OS / Arch | INSTALL | BUILD | BUILD BIN | ||||||||||||
| MicrobiotaProcess 1.10.3 (landing page) Shuangbin Xu
| kjohnson | macOS 13.0 Ventura / arm64 | OK | OK | OK | ||||||||||||
| Package 12/19 | Hostname | OS / Arch | INSTALL | BUILD | BUILD BIN | ||||||||||||
| orthogene 1.4.2 (landing page) Brian Schilder
| kjohnson | macOS 13.0 Ventura / arm64 | OK | OK | OK | ||||||||||||
| Package 13/19 | Hostname | OS / Arch | INSTALL | BUILD | BUILD BIN | ||||||||||||
| philr 1.24.0 (landing page) Justin Silverman
| kjohnson | macOS 13.0 Ventura / arm64 | OK | OK | OK | ||||||||||||
| Package 14/19 | Hostname | OS / Arch | INSTALL | BUILD | BUILD BIN | ||||||||||||
| scBubbletree 1.0.0 (landing page) Simo Kitanovski
| kjohnson | macOS 13.0 Ventura / arm64 | OK | OK | OK | ||||||||||||
| Package 15/19 | Hostname | OS / Arch | INSTALL | BUILD | BUILD BIN | ||||||||||||
| singleCellTK 2.8.0 (landing page) Yichen Wang
| kjohnson | macOS 13.0 Ventura / arm64 | OK | OK | OK | ||||||||||||
| Package 16/19 | Hostname | OS / Arch | INSTALL | BUILD | BUILD BIN | ||||||||||||
| sitePath 1.14.0 (landing page) Chengyang Ji
| kjohnson | macOS 13.0 Ventura / arm64 | OK | OK | OK | ||||||||||||
| Package 17/19 | Hostname | OS / Arch | INSTALL | BUILD | BUILD BIN | ||||||||||||
| systemPipeTools 1.6.0 (landing page) Daniela Cassol
| kjohnson | macOS 13.0 Ventura / arm64 | OK | OK | OK | ||||||||||||
| Package 18/19 | Hostname | OS / Arch | INSTALL | BUILD | BUILD BIN | ||||||||||||
| tanggle 1.4.0 (landing page) Klaus Schliep
| kjohnson | macOS 13.0 Ventura / arm64 | OK | OK | OK | ||||||||||||
| Package 19/19 | Hostname | OS / Arch | INSTALL | BUILD | BUILD BIN | ||||||||||||
| treekoR 1.6.1 (landing page) Adam Chan
| kjohnson | macOS 13.0 Ventura / arm64 | OK | OK | OK | ||||||||||||