| Back to Mac ARM64 build report for BioC 3.16 | 
 | 
This page was generated on 2023-04-19 11:01:48 -0400 (Wed, 19 Apr 2023).
| Hostname | OS | Arch (*) | R version | Installed pkgs | 
|---|---|---|---|---|
| kjohnson | macOS 13.0 Ventura | arm64 | 4.2.2 (2022-10-31) -- "Innocent and Trusting" | 4256 | 
| Click on any hostname to see more info about the system (e.g. compilers) (*) as reported by 'uname -p', except on Windows and Mac OS X | ||||
| To the developers/maintainers of the genefilter package: Make sure to use the following settings in order to reproduce any error or warning you see on this page. | 
| Package 756/2183 | Hostname | OS / Arch | INSTALL | BUILD | BUILD BIN | ||||||||
| genefilter 1.80.3  (landing page) Bioconductor Package Maintainer 
 | kjohnson | macOS 13.0 Ventura / arm64 | OK | OK | OK |  | |||||||
| QUICK STATS | OS / Arch | INSTALL | BUILD | BUILD BIN | |||||||||||||
| kjohnson | macOS 13.0 Ventura / arm64 | 
 | 
 | 
 | |||||||||||||
| Package 1/36 | Hostname | OS / Arch | INSTALL | BUILD | BUILD BIN | ||||||||||||
| a4Base 1.46.0  (landing page) Laure Cougnaud 
 | kjohnson | macOS 13.0 Ventura / arm64 | OK | OK | OK |  | |||||||||||
| Package 2/36 | Hostname | OS / Arch | INSTALL | BUILD | BUILD BIN | ||||||||||||
| annmap 1.40.0  (landing page) Chris Wirth 
 | kjohnson | macOS 13.0 Ventura / arm64 | OK | ERROR | skipped | ||||||||||||
| Package 3/36 | Hostname | OS / Arch | INSTALL | BUILD | BUILD BIN | ||||||||||||
| arrayQualityMetrics 3.54.0  (landing page) Mike Smith 
 | kjohnson | macOS 13.0 Ventura / arm64 | OK | OK | OK |  | |||||||||||
| Package 4/36 | Hostname | OS / Arch | INSTALL | BUILD | BUILD BIN | ||||||||||||
| Category 2.64.0  (landing page) Bioconductor Package Maintainer 
 | kjohnson | macOS 13.0 Ventura / arm64 | OK | OK | OK |  | |||||||||||
| Package 5/36 | Hostname | OS / Arch | INSTALL | BUILD | BUILD BIN | ||||||||||||
| cbaf 1.20.1  (landing page) Arman Shahrisa 
 | kjohnson | macOS 13.0 Ventura / arm64 | OK | OK | OK |  | |||||||||||
| Package 6/36 | Hostname | OS / Arch | INSTALL | BUILD | BUILD BIN | ||||||||||||
| cellHTS2 2.62.0  (landing page) Joseph Barry 
 | kjohnson | macOS 13.0 Ventura / arm64 | OK | OK | OK |  | |||||||||||
| Package 7/36 | Hostname | OS / Arch | INSTALL | BUILD | BUILD BIN | ||||||||||||
| ClassifyR 3.2.7  (landing page) Dario Strbenac 
 | kjohnson | macOS 13.0 Ventura / arm64 | OK | OK | OK |  | |||||||||||
| Package 8/36 | Hostname | OS / Arch | INSTALL | BUILD | BUILD BIN | ||||||||||||
| CNTools 1.54.0  (landing page) J. Zhang 
 | kjohnson | macOS 13.0 Ventura / arm64 | OK | OK | OK |  | |||||||||||
| Package 9/36 | Hostname | OS / Arch | INSTALL | BUILD | BUILD BIN | ||||||||||||
| countsimQC 1.16.1  (landing page) Charlotte Soneson 
 | kjohnson | macOS 13.0 Ventura / arm64 | OK | OK | OK |  | |||||||||||
| Package 10/36 | Hostname | OS / Arch | INSTALL | BUILD | BUILD BIN | ||||||||||||
| covRNA 1.24.0  (landing page) Lara Urban 
 | kjohnson | macOS 13.0 Ventura / arm64 | OK | OK | OK |  | |||||||||||
| Package 11/36 | Hostname | OS / Arch | INSTALL | BUILD | BUILD BIN | ||||||||||||
| DEXSeq 1.44.0  (landing page) Alejandro Reyes 
 | kjohnson | macOS 13.0 Ventura / arm64 | OK | OK | OK |  | |||||||||||
| Package 12/36 | Hostname | OS / Arch | INSTALL | BUILD | BUILD BIN | ||||||||||||
| ENmix 1.34.02  (landing page) Zongli Xu 
 | kjohnson | macOS 13.0 Ventura / arm64 | OK | OK | OK |  | |||||||||||
| Package 13/36 | Hostname | OS / Arch | INSTALL | BUILD | BUILD BIN | ||||||||||||
| GeneMeta 1.70.0  (landing page) Bioconductor Package Maintainer 
 | kjohnson | macOS 13.0 Ventura / arm64 | OK | OK | OK |  | |||||||||||
| Package 14/36 | Hostname | OS / Arch | INSTALL | BUILD | BUILD BIN | ||||||||||||
| GISPA 1.22.0  (landing page) Bhakti Dwivedi 
 | kjohnson | macOS 13.0 Ventura / arm64 | OK | OK | OK |  | |||||||||||
| Package 15/36 | Hostname | OS / Arch | INSTALL | BUILD | BUILD BIN | ||||||||||||
| GSRI 2.46.0  (landing page) Julian Gehring 
 | kjohnson | macOS 13.0 Ventura / arm64 | OK | OK | OK |  | |||||||||||
| Package 16/36 | Hostname | OS / Arch | INSTALL | BUILD | BUILD BIN | ||||||||||||
| metaseqR2 1.10.0  (landing page) Panagiotis Moulos 
 | kjohnson | macOS 13.0 Ventura / arm64 | OK | OK | OK |  | |||||||||||
| Package 17/36 | Hostname | OS / Arch | INSTALL | BUILD | BUILD BIN | ||||||||||||
| methylCC 1.12.0  (landing page) Stephanie C. Hicks 
 | kjohnson | macOS 13.0 Ventura / arm64 | OK | OK | OK |  | |||||||||||
| Package 18/36 | Hostname | OS / Arch | INSTALL | BUILD | BUILD BIN | ||||||||||||
| methylumi 2.44.0  (landing page) Sean Davis 
 | kjohnson | macOS 13.0 Ventura / arm64 | OK | OK | OK |  | |||||||||||
| Package 19/36 | Hostname | OS / Arch | INSTALL | BUILD | BUILD BIN | ||||||||||||
| minfi 1.44.0  (landing page) Kasper Daniel Hansen 
 | kjohnson | macOS 13.0 Ventura / arm64 | OK | OK | OK |  | |||||||||||
| Package 20/36 | Hostname | OS / Arch | INSTALL | BUILD | BUILD BIN | ||||||||||||
| MLInterfaces 1.78.0  (landing page) V. Carey 
 | kjohnson | macOS 13.0 Ventura / arm64 | OK | OK | OK |  | |||||||||||
| Package 21/36 | Hostname | OS / Arch | INSTALL | BUILD | BUILD BIN | ||||||||||||
| mogsa 1.32.0  (landing page) Chen Meng 
 | kjohnson | macOS 13.0 Ventura / arm64 | OK | OK | OK |  | |||||||||||
| Package 22/36 | Hostname | OS / Arch | INSTALL | BUILD | BUILD BIN | ||||||||||||
| NBAMSeq 1.14.0  (landing page) Xu Ren 
 | kjohnson | macOS 13.0 Ventura / arm64 | OK | OK | OK |  | |||||||||||
| Package 23/36 | Hostname | OS / Arch | INSTALL | BUILD | BUILD BIN | ||||||||||||
| NxtIRFcore 1.4.0  (landing page) Alex Chit Hei Wong 
 | kjohnson | macOS 13.0 Ventura / arm64 | OK | OK | OK |  | |||||||||||
| Package 24/36 | Hostname | OS / Arch | INSTALL | BUILD | BUILD BIN | ||||||||||||
| pcaExplorer 2.24.0  (landing page) Federico Marini 
 | kjohnson | macOS 13.0 Ventura / arm64 | OK | OK | OK |  | |||||||||||
| Package 25/36 | Hostname | OS / Arch | INSTALL | BUILD | BUILD BIN | ||||||||||||
| PECA 1.34.0  (landing page) Tomi Suomi 
 | kjohnson | macOS 13.0 Ventura / arm64 | OK | OK | OK |  | |||||||||||
| Package 26/36 | Hostname | OS / Arch | INSTALL | BUILD | BUILD BIN | ||||||||||||
| phenoTest 1.46.0  (landing page) Evarist Planet 
 | kjohnson | macOS 13.0 Ventura / arm64 | OK | OK | OK |  | |||||||||||
| Package 27/36 | Hostname | OS / Arch | INSTALL | BUILD | BUILD BIN | ||||||||||||
| protGear 1.2.0  (landing page) Kennedy Mwai 
 | kjohnson | macOS 13.0 Ventura / arm64 | OK | OK | OK |  | |||||||||||
| Package 28/36 | Hostname | OS / Arch | INSTALL | BUILD | BUILD BIN | ||||||||||||
| pwrEWAS 1.12.0  (landing page) Stefan Graw 
 | kjohnson | macOS 13.0 Ventura / arm64 | OK | OK | OK |  | |||||||||||
| Package 29/36 | Hostname | OS / Arch | INSTALL | BUILD | BUILD BIN | ||||||||||||
| Ringo 1.62.0  (landing page) J. Toedling 
 | kjohnson | macOS 13.0 Ventura / arm64 | OK | OK | OK |  | |||||||||||
| Package 30/36 | Hostname | OS / Arch | INSTALL | BUILD | BUILD BIN | ||||||||||||
| SISPA 1.28.0  (landing page) Bhakti Dwivedi 
 | kjohnson | macOS 13.0 Ventura / arm64 | OK | OK | OK |  | |||||||||||
| Package 31/36 | Hostname | OS / Arch | INSTALL | BUILD | BUILD BIN | ||||||||||||
| spatialHeatmap 2.4.0  (landing page) Jianhai Zhang 
 | kjohnson | macOS 13.0 Ventura / arm64 | OK | OK | OK |  | |||||||||||
| Package 32/36 | Hostname | OS / Arch | INSTALL | BUILD | BUILD BIN | ||||||||||||
| SpliceWiz 1.0.4  (landing page) Alex Chit Hei Wong 
 | kjohnson | macOS 13.0 Ventura / arm64 | OK | OK | OK |  | |||||||||||
| Package 33/36 | Hostname | OS / Arch | INSTALL | BUILD | BUILD BIN | ||||||||||||
| sva 3.46.0  (landing page) Jeffrey T. Leek 
 | kjohnson | macOS 13.0 Ventura / arm64 | OK | OK | OK |  | |||||||||||
| Package 34/36 | Hostname | OS / Arch | INSTALL | BUILD | BUILD BIN | ||||||||||||
| tilingArray 1.76.0  (landing page) Zhenyu Xu 
 | kjohnson | macOS 13.0 Ventura / arm64 | OK | OK | OK |  | |||||||||||
| Package 35/36 | Hostname | OS / Arch | INSTALL | BUILD | BUILD BIN | ||||||||||||
| XDE 2.44.0  (landing page) Robert Scharpf 
 | kjohnson | macOS 13.0 Ventura / arm64 | OK | OK | OK |  | |||||||||||
| Package 36/36 | Hostname | OS / Arch | INSTALL | BUILD | BUILD BIN | ||||||||||||
| zinbwave 1.20.0  (landing page) Davide Risso 
 | kjohnson | macOS 13.0 Ventura / arm64 | OK | OK | OK |  | |||||||||||