| Back to Mac ARM64 build report for BioC 3.16 |
|
This page was generated on 2023-04-19 11:01:48 -0400 (Wed, 19 Apr 2023).
| Hostname | OS | Arch (*) | R version | Installed pkgs |
|---|---|---|---|---|
| kjohnson | macOS 13.0 Ventura | arm64 | 4.2.2 (2022-10-31) -- "Innocent and Trusting" | 4256 |
| Click on any hostname to see more info about the system (e.g. compilers) (*) as reported by 'uname -p', except on Windows and Mac OS X | ||||
|
To the developers/maintainers of the enrichplot package: Make sure to use the following settings in order to reproduce any error or warning you see on this page. |
| Package 611/2183 | Hostname | OS / Arch | INSTALL | BUILD | BUILD BIN | ||||||||
| enrichplot 1.18.4 (landing page) Guangchuang Yu
| kjohnson | macOS 13.0 Ventura / arm64 | OK | OK | OK | ||||||||
| QUICK STATS | OS / Arch | INSTALL | BUILD | BUILD BIN | |||||||||||||
| kjohnson | macOS 13.0 Ventura / arm64 |
|
|
| |||||||||||||
| Package 1/8 | Hostname | OS / Arch | INSTALL | BUILD | BUILD BIN | ||||||||||||
| ChIPseeker 1.34.1 (landing page) Guangchuang Yu
| kjohnson | macOS 13.0 Ventura / arm64 | OK | OK | OK | ||||||||||||
| Package 2/8 | Hostname | OS / Arch | INSTALL | BUILD | BUILD BIN | ||||||||||||
| clusterProfiler 4.6.2 (landing page) Guangchuang Yu
| kjohnson | macOS 13.0 Ventura / arm64 | OK | OK | OK | ||||||||||||
| Package 3/8 | Hostname | OS / Arch | INSTALL | BUILD | BUILD BIN | ||||||||||||
| debrowser 1.26.3 (landing page) Alper Kucukural
| kjohnson | macOS 13.0 Ventura / arm64 | OK | OK | OK | ||||||||||||
| Package 4/8 | Hostname | OS / Arch | INSTALL | BUILD | BUILD BIN | ||||||||||||
| MAGeCKFlute 2.2.0 (landing page) Wubing Zhang
| kjohnson | macOS 13.0 Ventura / arm64 | OK | OK | OK | ||||||||||||
| Package 5/8 | Hostname | OS / Arch | INSTALL | BUILD | BUILD BIN | ||||||||||||
| meshes 1.24.0 (landing page) Guangchuang Yu
| kjohnson | macOS 13.0 Ventura / arm64 | OK | OK | OK | ||||||||||||
| Package 6/8 | Hostname | OS / Arch | INSTALL | BUILD | BUILD BIN | ||||||||||||
| MicrobiomeProfiler 1.4.0 (landing page) Meijun Chen
| kjohnson | macOS 13.0 Ventura / arm64 | OK | OK | OK | ||||||||||||
| Package 7/8 | Hostname | OS / Arch | INSTALL | BUILD | BUILD BIN | ||||||||||||
| multiSight 1.6.0 (landing page) Florian Jeanneret
| kjohnson | macOS 13.0 Ventura / arm64 | OK | OK | OK | ||||||||||||
| Package 8/8 | Hostname | OS / Arch | INSTALL | BUILD | BUILD BIN | ||||||||||||
| ReactomePA 1.42.0 (landing page) Guangchuang Yu
| kjohnson | macOS 13.0 Ventura / arm64 | OK | OK | OK | ||||||||||||