Package: chipseq Version: 1.48.0 Command: /Library/Frameworks/R.framework/Resources/bin/R CMD build --keep-empty-dirs --no-resave-data chipseq StartedAt: 2023-04-17 00:06:48 -0400 (Mon, 17 Apr 2023) EndedAt: 2023-04-17 00:09:04 -0400 (Mon, 17 Apr 2023) EllapsedTime: 136.1 seconds RetCode: 0 Status: OK PackageFile: chipseq_1.48.0.tar.gz PackageFileSize: 2.12 MiB