| Back to Mac ARM64 build report for BioC 3.16 | 
 | 
This page was generated on 2023-04-19 11:01:48 -0400 (Wed, 19 Apr 2023).
| Hostname | OS | Arch (*) | R version | Installed pkgs | 
|---|---|---|---|---|
| kjohnson | macOS 13.0 Ventura | arm64 | 4.2.2 (2022-10-31) -- "Innocent and Trusting" | 4256 | 
| Click on any hostname to see more info about the system (e.g. compilers) (*) as reported by 'uname -p', except on Windows and Mac OS X | ||||
| To the developers/maintainers of the bumphunter package: Make sure to use the following settings in order to reproduce any error or warning you see on this page. | 
| Package 236/2183 | Hostname | OS / Arch | INSTALL | BUILD | BUILD BIN | ||||||||
| bumphunter 1.40.0  (landing page) Tamilselvi Guharaj 
 | kjohnson | macOS 13.0 Ventura / arm64 | OK | OK | OK |  | |||||||
| QUICK STATS | OS / Arch | INSTALL | BUILD | BUILD BIN | |||||||||||||
| kjohnson | macOS 13.0 Ventura / arm64 | 
 | 
 | 
 | |||||||||||||
| Package 1/11 | Hostname | OS / Arch | INSTALL | BUILD | BUILD BIN | ||||||||||||
| brainflowprobes 1.12.0  (landing page) Amanda Price 
 | kjohnson | macOS 13.0 Ventura / arm64 | OK | OK | OK |  | |||||||||||
| Package 2/11 | Hostname | OS / Arch | INSTALL | BUILD | BUILD BIN | ||||||||||||
| ChAMP 2.28.0  (landing page) Yuan Tian 
 | kjohnson | macOS 13.0 Ventura / arm64 | OK | OK | OK |  | |||||||||||
| Package 3/11 | Hostname | OS / Arch | INSTALL | BUILD | BUILD BIN | ||||||||||||
| coMethDMR 1.2.0  (landing page) Fernanda Veitzman 
 | kjohnson | macOS 13.0 Ventura / arm64 | OK | OK | OK |  | |||||||||||
| Package 4/11 | Hostname | OS / Arch | INSTALL | BUILD | BUILD BIN | ||||||||||||
| DAMEfinder 1.10.1  (landing page) Stephany Orjuela 
 | kjohnson | macOS 13.0 Ventura / arm64 | OK | OK | OK |  | |||||||||||
| Package 5/11 | Hostname | OS / Arch | INSTALL | BUILD | BUILD BIN | ||||||||||||
| derfinder 1.32.0  (landing page) Leonardo Collado-Torres 
 | kjohnson | macOS 13.0 Ventura / arm64 | OK | OK | OK |  | |||||||||||
| Package 6/11 | Hostname | OS / Arch | INSTALL | BUILD | BUILD BIN | ||||||||||||
| dmrseq 1.18.1  (landing page) Keegan Korthauer 
 | kjohnson | macOS 13.0 Ventura / arm64 | OK | OK | OK |  | |||||||||||
| Package 7/11 | Hostname | OS / Arch | INSTALL | BUILD | BUILD BIN | ||||||||||||
| epimutacions 1.2.0  (landing page) Dolors Pelegri-Siso 
 | kjohnson | macOS 13.0 Ventura / arm64 | OK | OK | OK |  | |||||||||||
| Package 8/11 | Hostname | OS / Arch | INSTALL | BUILD | BUILD BIN | ||||||||||||
| epivizr 2.28.0  (landing page) Hector Corrada Bravo 
 | kjohnson | macOS 13.0 Ventura / arm64 | OK | OK | OK |  | |||||||||||
| Package 9/11 | Hostname | OS / Arch | INSTALL | BUILD | BUILD BIN | ||||||||||||
| methylCC 1.12.0  (landing page) Stephanie C. Hicks 
 | kjohnson | macOS 13.0 Ventura / arm64 | OK | OK | OK |  | |||||||||||
| Package 10/11 | Hostname | OS / Arch | INSTALL | BUILD | BUILD BIN | ||||||||||||
| minfi 1.44.0  (landing page) Kasper Daniel Hansen 
 | kjohnson | macOS 13.0 Ventura / arm64 | OK | OK | OK |  | |||||||||||
| Package 11/11 | Hostname | OS / Arch | INSTALL | BUILD | BUILD BIN | ||||||||||||
| rnaEditr 1.8.0  (landing page) Lanyu Zhang 
 | kjohnson | macOS 13.0 Ventura / arm64 | OK | OK | OK |  | |||||||||||