Package: bsseq Version: 1.34.0 Command: /Library/Frameworks/R.framework/Resources/bin/R CMD INSTALL bsseq StartedAt: 2023-04-16 16:45:49 -0400 (Sun, 16 Apr 2023) EndedAt: 2023-04-16 16:47:47 -0400 (Sun, 16 Apr 2023) EllapsedTime: 118.2 seconds RetCode: 0 Status: OK