| Back to Mac ARM64 build report for BioC 3.16 |
|
This page was generated on 2023-04-19 11:01:47 -0400 (Wed, 19 Apr 2023).
| Hostname | OS | Arch (*) | R version | Installed pkgs |
|---|---|---|---|---|
| kjohnson | macOS 13.0 Ventura | arm64 | 4.2.2 (2022-10-31) -- "Innocent and Trusting" | 4256 |
| Click on any hostname to see more info about the system (e.g. compilers) (*) as reported by 'uname -p', except on Windows and Mac OS X | ||||
|
To the developers/maintainers of the biodb package: Make sure to use the following settings in order to reproduce any error or warning you see on this page. |
| Package 179/2183 | Hostname | OS / Arch | INSTALL | BUILD | BUILD BIN | ||||||||
| biodb 1.6.1 (landing page) Pierrick Roger
| kjohnson | macOS 13.0 Ventura / arm64 | OK | OK | OK | ||||||||
| QUICK STATS | OS / Arch | INSTALL | BUILD | BUILD BIN | |||||||||||||
| kjohnson | macOS 13.0 Ventura / arm64 |
|
|
| |||||||||||||
| Package 1/10 | Hostname | OS / Arch | INSTALL | BUILD | BUILD BIN | ||||||||||||
| biodbChebi 1.4.0 (landing page) Pierrick Roger
| kjohnson | macOS 13.0 Ventura / arm64 | OK | OK | OK | ||||||||||||
| Package 2/10 | Hostname | OS / Arch | INSTALL | BUILD | BUILD BIN | ||||||||||||
| biodbExpasy 1.2.0 (landing page) Pierrick Roger
| kjohnson | macOS 13.0 Ventura / arm64 | OK | OK | OK | ||||||||||||
| Package 3/10 | Hostname | OS / Arch | INSTALL | BUILD | BUILD BIN | ||||||||||||
| biodbHmdb 1.4.0 (landing page) Pierrick Roger
| kjohnson | macOS 13.0 Ventura / arm64 | OK | OK | OK | ||||||||||||
| Package 4/10 | Hostname | OS / Arch | INSTALL | BUILD | BUILD BIN | ||||||||||||
| biodbKegg 1.4.0 (landing page) Pierrick Roger
| kjohnson | macOS 13.0 Ventura / arm64 | OK | ERROR | skipped | ||||||||||||
| Package 5/10 | Hostname | OS / Arch | INSTALL | BUILD | BUILD BIN | ||||||||||||
| biodbLipidmaps 1.4.1 (landing page) Pierrick Roger
| kjohnson | macOS 13.0 Ventura / arm64 | OK | OK | OK | ||||||||||||
| Package 6/10 | Hostname | OS / Arch | INSTALL | BUILD | BUILD BIN | ||||||||||||
| biodbMirbase 1.2.2 (landing page) Pierrick Roger
| kjohnson | macOS 13.0 Ventura / arm64 | OK | OK | OK | ||||||||||||
| Package 7/10 | Hostname | OS / Arch | INSTALL | BUILD | BUILD BIN | ||||||||||||
| biodbNcbi 1.2.0 (landing page) Pierrick Roger
| kjohnson | macOS 13.0 Ventura / arm64 | OK | OK | OK | ||||||||||||
| Package 8/10 | Hostname | OS / Arch | INSTALL | BUILD | BUILD BIN | ||||||||||||
| biodbNci 1.2.0 (landing page) Pierrick Roger
| kjohnson | macOS 13.0 Ventura / arm64 | OK | OK | OK | ||||||||||||
| Package 9/10 | Hostname | OS / Arch | INSTALL | BUILD | BUILD BIN | ||||||||||||
| biodbUniprot 1.4.0 (landing page) Pierrick Roger
| kjohnson | macOS 13.0 Ventura / arm64 | OK | OK | OK | ||||||||||||
| Package 10/10 | Hostname | OS / Arch | INSTALL | BUILD | BUILD BIN | ||||||||||||
| phenomis 1.0.2 (landing page) Etienne A. Thevenot
| kjohnson | macOS 13.0 Ventura / arm64 | OK | OK | OK | ||||||||||||