Package: bigmelon Version: 1.24.0 Command: /Library/Frameworks/R.framework/Resources/bin/R CMD INSTALL bigmelon StartedAt: 2023-04-16 18:01:00 -0400 (Sun, 16 Apr 2023) EndedAt: 2023-04-16 18:02:37 -0400 (Sun, 16 Apr 2023) EllapsedTime: 97.3 seconds RetCode: 0 Status: OK