Package: bigmelon Version: 1.24.0 Command: rm -rf bigmelon.buildbin-libdir && mkdir bigmelon.buildbin-libdir && /Users/biocbuild/BBS/utils/build-universal.sh bigmelon_1.24.0.tar.gz /Library/Frameworks/R.framework/Resources/bin/R bigmelon.buildbin-libdir StartedAt: 2023-04-18 13:53:44 -0400 (Tue, 18 Apr 2023) EndedAt: 2023-04-18 13:56:07 -0400 (Tue, 18 Apr 2023) EllapsedTime: 143.0 seconds RetCode: 0 Status: OK PackageFile: bigmelon_1.24.0.tgz PackageFileSize: 1.171 MiB