Package: bcSeq Version: 1.20.0 Command: /Library/Frameworks/R.framework/Resources/bin/R CMD build --keep-empty-dirs --no-resave-data bcSeq StartedAt: 2023-04-16 21:07:03 -0400 (Sun, 16 Apr 2023) EndedAt: 2023-04-16 21:08:09 -0400 (Sun, 16 Apr 2023) EllapsedTime: 65.3 seconds RetCode: 0 Status: OK PackageFile: bcSeq_1.20.0.tar.gz PackageFileSize: 241 KiB