| Back to Mac ARM64 build report for BioC 3.16 |
|
This page was generated on 2023-04-19 11:01:53 -0400 (Wed, 19 Apr 2023).
| Hostname | OS | Arch (*) | R version | Installed pkgs |
|---|---|---|---|---|
| kjohnson | macOS 13.0 Ventura | arm64 | 4.2.2 (2022-10-31) -- "Innocent and Trusting" | 4256 |
| Click on any hostname to see more info about the system (e.g. compilers) (*) as reported by 'uname -p', except on Windows and Mac OS X | ||||
|
To the developers/maintainers of the XVector package: Make sure to use the following settings in order to reproduce any error or warning you see on this page. |
| Package 2175/2183 | Hostname | OS / Arch | INSTALL | BUILD | BUILD BIN | ||||||||
| XVector 0.38.0 (landing page) Hervé Pagès
| kjohnson | macOS 13.0 Ventura / arm64 | OK | OK | OK | ||||||||
| QUICK STATS | OS / Arch | INSTALL | BUILD | BUILD BIN | |||||||||||||
| kjohnson | macOS 13.0 Ventura / arm64 |
|
|
| |||||||||||||
| Package 1/34 | Hostname | OS / Arch | INSTALL | BUILD | BUILD BIN | ||||||||||||
| Biostrings 2.66.0 (landing page) H. Pagès
| kjohnson | macOS 13.0 Ventura / arm64 | OK | OK | OK | ||||||||||||
| Package 2/34 | Hostname | OS / Arch | INSTALL | BUILD | BUILD BIN | ||||||||||||
| BSgenome 1.66.3 (landing page) Hervé Pagès
| kjohnson | macOS 13.0 Ventura / arm64 | OK | OK | OK | ||||||||||||
| Package 3/34 | Hostname | OS / Arch | INSTALL | BUILD | BUILD BIN | ||||||||||||
| ChIPsim 1.52.0 (landing page) Peter Humburg
| kjohnson | macOS 13.0 Ventura / arm64 | OK | OK | OK | ||||||||||||
| Package 4/34 | Hostname | OS / Arch | INSTALL | BUILD | BUILD BIN | ||||||||||||
| CNEr 1.34.0 (landing page) Ge Tan
| kjohnson | macOS 13.0 Ventura / arm64 | OK | OK | OK | ||||||||||||
| Package 5/34 | Hostname | OS / Arch | INSTALL | BUILD | BUILD BIN | ||||||||||||
| compEpiTools 1.32.0 (landing page) Kamal Kishore
| kjohnson | macOS 13.0 Ventura / arm64 | OK | OK | OK | ||||||||||||
| Package 6/34 | Hostname | OS / Arch | INSTALL | BUILD | BUILD BIN | ||||||||||||
| crisprScore 1.2.0 (landing page) Jean-Philippe Fortin
| kjohnson | macOS 13.0 Ventura / arm64 | OK | OK | OK | ||||||||||||
| Package 7/34 | Hostname | OS / Arch | INSTALL | BUILD | BUILD BIN | ||||||||||||
| CRISPRseek 1.38.0 (landing page) Lihua Julie Zhu
| kjohnson | macOS 13.0 Ventura / arm64 | OK | OK | OK | ||||||||||||
| Package 8/34 | Hostname | OS / Arch | INSTALL | BUILD | BUILD BIN | ||||||||||||
| dada2 1.26.0 (landing page) Benjamin Callahan
| kjohnson | macOS 13.0 Ventura / arm64 | OK | OK | OK | ||||||||||||
| Package 9/34 | Hostname | OS / Arch | INSTALL | BUILD | BUILD BIN | ||||||||||||
| DECIPHER 2.26.0 (landing page) Erik Wright
| kjohnson | macOS 13.0 Ventura / arm64 | OK | OK | OK | ||||||||||||
| Package 10/34 | Hostname | OS / Arch | INSTALL | BUILD | BUILD BIN | ||||||||||||
| gcrma 2.70.0 (landing page) Z. Wu
| kjohnson | macOS 13.0 Ventura / arm64 | OK | OK | OK | ||||||||||||
| Package 11/34 | Hostname | OS / Arch | INSTALL | BUILD | BUILD BIN | ||||||||||||
| GenomicFeatures 1.50.4 (landing page) H. Pagès
| kjohnson | macOS 13.0 Ventura / arm64 | OK | OK | OK | ||||||||||||
| Package 12/34 | Hostname | OS / Arch | INSTALL | BUILD | BUILD BIN | ||||||||||||
| GenomicRanges 1.50.2 (landing page) Hervé Pagès
| kjohnson | macOS 13.0 Ventura / arm64 | OK | OK | OK | ||||||||||||
| Package 13/34 | Hostname | OS / Arch | INSTALL | BUILD | BUILD BIN | ||||||||||||
| Gviz 1.42.1 (landing page) Robert Ivanek
| kjohnson | macOS 13.0 Ventura / arm64 | OK | OK | OK | ||||||||||||
| Package 14/34 | Hostname | OS / Arch | INSTALL | BUILD | BUILD BIN | ||||||||||||
| HiLDA 1.12.0 (landing page) Zhi Yang
| kjohnson | macOS 13.0 Ventura / arm64 | OK | OK | OK | ||||||||||||
| Package 15/34 | Hostname | OS / Arch | INSTALL | BUILD | BUILD BIN | ||||||||||||
| IONiseR 2.22.0 (landing page) Mike Smith
| kjohnson | macOS 13.0 Ventura / arm64 | OK | OK | OK | ||||||||||||
| Package 16/34 | Hostname | OS / Arch | INSTALL | BUILD | BUILD BIN | ||||||||||||
| IsoformSwitchAnalyzeR 1.20.0 (landing page) Kristoffer Vitting-Seerup
| kjohnson | macOS 13.0 Ventura / arm64 | OK | OK | OK | ||||||||||||
| Package 17/34 | Hostname | OS / Arch | INSTALL | BUILD | BUILD BIN | ||||||||||||
| kebabs 1.32.0 (landing page) Ulrich Bodenhofer
| kjohnson | macOS 13.0 Ventura / arm64 | OK | OK | OK | ||||||||||||
| Package 18/34 | Hostname | OS / Arch | INSTALL | BUILD | BUILD BIN | ||||||||||||
| MatrixRider 1.30.0 (landing page) Elena Grassi
| kjohnson | macOS 13.0 Ventura / arm64 | OK | OK | OK | ||||||||||||
| Package 19/34 | Hostname | OS / Arch | INSTALL | BUILD | BUILD BIN | ||||||||||||
| Modstrings 1.14.0 (landing page) Felix G.M. Ernst
| kjohnson | macOS 13.0 Ventura / arm64 | OK | OK | OK | ||||||||||||
| Package 20/34 | Hostname | OS / Arch | INSTALL | BUILD | BUILD BIN | ||||||||||||
| monaLisa 1.4.0 (landing page) Michael Stadler
| kjohnson | macOS 13.0 Ventura / arm64 | OK | OK | OK | ||||||||||||
| Package 21/34 | Hostname | OS / Arch | INSTALL | BUILD | BUILD BIN | ||||||||||||
| ProteoDisco 1.4.0 (landing page) Job van Riet
| kjohnson | macOS 13.0 Ventura / arm64 | OK | OK | OK | ||||||||||||
| Package 22/34 | Hostname | OS / Arch | INSTALL | BUILD | BUILD BIN | ||||||||||||
| R453Plus1Toolbox 1.48.0 (landing page) Hans-Ulrich Klein
| kjohnson | macOS 13.0 Ventura / arm64 | OK | OK | OK | ||||||||||||
| Package 23/34 | Hostname | OS / Arch | INSTALL | BUILD | BUILD BIN | ||||||||||||
| ribosomeProfilingQC 1.10.0 (landing page) Jianhong Ou
| kjohnson | macOS 13.0 Ventura / arm64 | OK | OK | OK | ||||||||||||
| Package 24/34 | Hostname | OS / Arch | INSTALL | BUILD | BUILD BIN | ||||||||||||
| Rsamtools 2.14.0 (landing page) Bioconductor Package Maintainer
| kjohnson | macOS 13.0 Ventura / arm64 | OK | OK | OK | ||||||||||||
| Package 25/34 | Hostname | OS / Arch | INSTALL | BUILD | BUILD BIN | ||||||||||||
| rtracklayer 1.58.0 (landing page) Michael Lawrence
| kjohnson | macOS 13.0 Ventura / arm64 | OK | OK | OK | ||||||||||||
| Package 26/34 | Hostname | OS / Arch | INSTALL | BUILD | BUILD BIN | ||||||||||||
| ShortRead 1.56.1 (landing page) Bioconductor Package Maintainer
| kjohnson | macOS 13.0 Ventura / arm64 | OK | OK | OK | ||||||||||||
| Package 27/34 | Hostname | OS / Arch | INSTALL | BUILD | BUILD BIN | ||||||||||||
| Structstrings 1.14.0 (landing page) Felix G.M. Ernst
| kjohnson | macOS 13.0 Ventura / arm64 | OK | OK | OK | ||||||||||||
| Package 28/34 | Hostname | OS / Arch | INSTALL | BUILD | BUILD BIN | ||||||||||||
| TFBSTools 1.36.0 (landing page) Ge Tan
| kjohnson | macOS 13.0 Ventura / arm64 | OK | OK | OK | ||||||||||||
| Package 29/34 | Hostname | OS / Arch | INSTALL | BUILD | BUILD BIN | ||||||||||||
| tracktables 1.32.0 (landing page) Tom Carroll
| kjohnson | macOS 13.0 Ventura / arm64 | OK | OK | OK | ||||||||||||
| Package 30/34 | Hostname | OS / Arch | INSTALL | BUILD | BUILD BIN | ||||||||||||
| triplex 1.38.0 (landing page) Jiri Hon
| kjohnson | macOS 13.0 Ventura / arm64 | OK | OK | OK | ||||||||||||
| Package 31/34 | Hostname | OS / Arch | INSTALL | BUILD | BUILD BIN | ||||||||||||
| tRNA 1.16.1 (landing page) Felix GM Ernst
| kjohnson | macOS 13.0 Ventura / arm64 | OK | OK | OK | ||||||||||||
| Package 32/34 | Hostname | OS / Arch | INSTALL | BUILD | BUILD BIN | ||||||||||||
| tRNAscanImport 1.18.0 (landing page) Felix G.M. Ernst
| kjohnson | macOS 13.0 Ventura / arm64 | OK | OK | OK | ||||||||||||
| Package 33/34 | Hostname | OS / Arch | INSTALL | BUILD | BUILD BIN | ||||||||||||
| VariantAnnotation 1.44.1 (landing page) Bioconductor Package Maintainer
| kjohnson | macOS 13.0 Ventura / arm64 | OK | OK | OK | ||||||||||||
| Package 34/34 | Hostname | OS / Arch | INSTALL | BUILD | BUILD BIN | ||||||||||||
| VariantFiltering 1.34.0 (landing page) Robert Castelo
| kjohnson | macOS 13.0 Ventura / arm64 | OK | ERROR | skipped | ||||||||||||