Package: VariantExperiment Version: 1.12.0 Command: /Library/Frameworks/R.framework/Resources/bin/R CMD INSTALL VariantExperiment StartedAt: 2023-04-16 15:38:59 -0400 (Sun, 16 Apr 2023) EndedAt: 2023-04-16 15:39:40 -0400 (Sun, 16 Apr 2023) EllapsedTime: 41.5 seconds RetCode: 0 Status: OK